BEGIN:VCALENDAR
VERSION:2.0
PRODID:-//Georg Büchner Buchhandlung - ECPv4.9.13//NONSGML v1.0//EN
CALSCALE:GREGORIAN
METHOD:PUBLISH
X-WR-CALNAME:Georg Büchner Buchhandlung
X-ORIGINAL-URL:https://www.buechner-buchhandlung.de
X-WR-CALDESC:Veranstaltungen im Georg Büchner Buchhandlung
BEGIN:VTIMEZONE
TZID:Europe/Berlin
BEGIN:DAYLIGHT
TZOFFSETFROM:+0100
TZOFFSETTO:+0200
TZNAME:CEST
DTSTART:20230326T010000
END:DAYLIGHT
BEGIN:STANDARD
TZOFFSETFROM:+0200
TZOFFSETTO:+0100
TZNAME:CET
DTSTART:20231029T010000
END:STANDARD
END:VTIMEZONE
BEGIN:VEVENT
DTSTART;TZID=Europe/Berlin:20230724T000000
DTEND;TZID=Europe/Berlin:20230729T235959
DTSTAMP:20260420T222747
CREATED:20230702T081806Z
LAST-MODIFIED:20230703T115011Z
UID:932-1690156800-1690675199@www.buechner-buchhandlung.de
SUMMARY:Betriebsurlaub
DESCRIPTION:\n\n\nVom 24. Juli bis zum 29. Juli machen wir Urlaub und lesen\, was das Zeug hält. Onlinebestellungen und Bestellungen über Mail werden bearbeitet und können ab Montag\, den 31. Juli abgeholt werden.  www.buechner-buchhandlung.de buechner-buchhandlung@gmx.de  Euch allen ein paar schöne Tage Beruta Adolf  \n\n\n\n\n\n\n\n\n\n\n
URL:https://www.buechner-buchhandlung.de/event/urlaub-und-lesen/
END:VEVENT
END:VCALENDAR